Package: blacksheepr
Version: 1.19.0
Command: F:\biocbuild\bbs-3.20-bioc\R\bin\R.exe CMD check --no-multiarch --install=check:blacksheepr.install-out.txt --library=F:\biocbuild\bbs-3.20-bioc\R\library --no-vignettes --timings blacksheepr_1.19.0.tar.gz
StartedAt: 2024-06-10 00:24:28 -0400 (Mon, 10 Jun 2024)
EndedAt: 2024-06-10 00:29:10 -0400 (Mon, 10 Jun 2024)
EllapsedTime: 282.3 seconds
RetCode: 0
Status: OK
CheckDir: blacksheepr.Rcheck
Warnings: 0