Package: blacksheepr Version: 1.20.0 Command: F:\biocbuild\bbs-3.20-bioc\R\bin\R.exe CMD INSTALL blacksheepr StartedAt: 2025-02-03 17:02:22 -0500 (Mon, 03 Feb 2025) EndedAt: 2025-02-03 17:03:06 -0500 (Mon, 03 Feb 2025) EllapsedTime: 44.2 seconds RetCode: 0 Status: OK