Package: blacksheepr Version: 1.20.0 Command: /home/biocbuild/R/R/bin/R CMD build --keep-empty-dirs --no-resave-data blacksheepr StartedAt: 2025-02-03 22:11:48 -0000 (Mon, 03 Feb 2025) EndedAt: 2025-02-03 22:14:52 -0000 (Mon, 03 Feb 2025) EllapsedTime: 184.0 seconds RetCode: 0 Status: OK PackageFile: blacksheepr_1.20.0.tar.gz PackageFileSize: 4.032 MiB