Package: blacksheepr Version: 1.20.0 Command: /home/biocbuild/R/R/bin/R CMD check --install=check:blacksheepr.install-out.txt --library=/home/biocbuild/R/R/site-library --no-vignettes --timings blacksheepr_1.20.0.tar.gz StartedAt: 2025-02-04 05:08:56 -0000 (Tue, 04 Feb 2025) EndedAt: 2025-02-04 05:13:29 -0000 (Tue, 04 Feb 2025) EllapsedTime: 273.3 seconds RetCode: 0 Status: OK CheckDir: blacksheepr.Rcheck Warnings: 0