Package: blacksheepr Version: 1.20.0 Command: /home/biocbuild/R/R/bin/R CMD INSTALL blacksheepr StartedAt: 2025-02-03 21:12:09 -0000 (Mon, 03 Feb 2025) EndedAt: 2025-02-03 21:12:39 -0000 (Mon, 03 Feb 2025) EllapsedTime: 30.3 seconds RetCode: 0 Status: OK