Package: bnbc Version: 1.28.0 Command: /Library/Frameworks/R.framework/Resources/bin/R CMD build --keep-empty-dirs --no-resave-data bnbc StartedAt: 2025-02-03 19:44:58 -0500 (Mon, 03 Feb 2025) EndedAt: 2025-02-03 19:46:50 -0500 (Mon, 03 Feb 2025) EllapsedTime: 112.1 seconds RetCode: 0 Status: OK PackageFile: bnbc_1.28.0.tar.gz PackageFileSize: 4.152 MiB