Package: bnbc Version: 1.28.0 Command: /Library/Frameworks/R.framework/Resources/bin/R CMD check --install=check:bnbc.install-out.txt --library=/Library/Frameworks/R.framework/Resources/library --no-vignettes --timings bnbc_1.28.0.tar.gz StartedAt: 2025-02-04 13:12:28 -0500 (Tue, 04 Feb 2025) EndedAt: 2025-02-04 13:18:24 -0500 (Tue, 04 Feb 2025) EllapsedTime: 356.2 seconds RetCode: 0 Status: OK CheckDir: bnbc.Rcheck Warnings: 0