Package: bnbc
Version: 1.28.0
Command: /Library/Frameworks/R.framework/Resources/bin/R CMD build --keep-empty-dirs --no-resave-data bnbc
StartedAt: 2024-11-19 16:07:43 -0500 (Tue, 19 Nov 2024)
EndedAt: 2024-11-19 16:09:32 -0500 (Tue, 19 Nov 2024)
EllapsedTime: 108.5 seconds
RetCode: 0
Status: OK
PackageFile: bnbc_1.28.0.tar.gz
PackageFileSize: 4.152 <A href="http://en.wikipedia.org/wiki/MiB" target="_blank">MiB</A>