Package: bnbc Version: 1.28.0 Command: F:\biocbuild\bbs-3.20-bioc\R\bin\R.exe CMD INSTALL bnbc StartedAt: 2025-02-03 16:22:21 -0500 (Mon, 03 Feb 2025) EndedAt: 2025-02-03 16:23:16 -0500 (Mon, 03 Feb 2025) EllapsedTime: 55.5 seconds RetCode: 0 Status: OK