Package: bnbc Version: 1.28.0 Command: /home/biocbuild/R/R/bin/R CMD INSTALL bnbc StartedAt: 2025-02-03 21:06:21 -0000 (Mon, 03 Feb 2025) EndedAt: 2025-02-03 21:07:15 -0000 (Mon, 03 Feb 2025) EllapsedTime: 53.9 seconds RetCode: 0 Status: OK