Package: bnem Version: 1.14.0 Command: /Library/Frameworks/R.framework/Resources/bin/R CMD build --keep-empty-dirs --no-resave-data bnem StartedAt: 2025-02-03 19:45:37 -0500 (Mon, 03 Feb 2025) EndedAt: 2025-02-03 19:46:57 -0500 (Mon, 03 Feb 2025) EllapsedTime: 80.2 seconds RetCode: 0 Status: OK PackageFile: bnem_1.14.0.tar.gz PackageFileSize: 1.682 MiB