Package: bnem Version: 1.14.0 Command: /Library/Frameworks/R.framework/Resources/bin/R CMD INSTALL bnem StartedAt: 2025-02-03 17:56:25 -0500 (Mon, 03 Feb 2025) EndedAt: 2025-02-03 17:57:05 -0500 (Mon, 03 Feb 2025) EllapsedTime: 40.9 seconds RetCode: 0 Status: OK