Package: bnem
Version: 1.14.0
Command: /Library/Frameworks/R.framework/Resources/bin/R CMD build --keep-empty-dirs --no-resave-data bnem
StartedAt: 2024-11-19 16:07:55 -0500 (Tue, 19 Nov 2024)
EndedAt: 2024-11-19 16:09:16 -0500 (Tue, 19 Nov 2024)
EllapsedTime: 81.1 seconds
RetCode: 0
Status: OK
PackageFile: bnem_1.14.0.tar.gz
PackageFileSize: 1.682 <A href="http://en.wikipedia.org/wiki/MiB" target="_blank">MiB</A>