Package: bnem
Version: 1.14.0
Command: /home/biocbuild/bbs-3.20-bioc/R/bin/R CMD check --install=check:bnem.install-out.txt --library=/home/biocbuild/bbs-3.20-bioc/R/site-library --timings bnem_1.14.0.tar.gz
StartedAt: 2025-02-17 20:19:55 -0500 (Mon, 17 Feb 2025)
EndedAt: 2025-02-17 20:23:49 -0500 (Mon, 17 Feb 2025)
EllapsedTime: 233.8 seconds
RetCode: 0
Status: OK
CheckDir: bnem.Rcheck
Warnings: 0