Package: bnem Version: 1.14.0 Command: chmod a+r bnem -R && F:\biocbuild\bbs-3.20-bioc\R\bin\R.exe CMD build --keep-empty-dirs --no-resave-data bnem StartedAt: 2025-02-03 17:51:40 -0500 (Mon, 03 Feb 2025) EndedAt: 2025-02-03 17:53:22 -0500 (Mon, 03 Feb 2025) EllapsedTime: 101.6 seconds RetCode: 0 Status: OK PackageFile: bnem_1.14.0.tar.gz PackageFileSize: 1.025 MiB