Package: bnem Version: 1.14.0 Command: /home/biocbuild/R/R/bin/R CMD INSTALL bnem StartedAt: 2025-02-03 21:18:32 -0000 (Mon, 03 Feb 2025) EndedAt: 2025-02-03 21:19:17 -0000 (Mon, 03 Feb 2025) EllapsedTime: 45.2 seconds RetCode: 0 Status: OK