Package: borealis Version: 1.10.0 Command: /Library/Frameworks/R.framework/Resources/bin/R CMD INSTALL borealis StartedAt: 2025-02-03 17:21:22 -0500 (Mon, 03 Feb 2025) EndedAt: 2025-02-03 17:22:07 -0500 (Mon, 03 Feb 2025) EllapsedTime: 45.2 seconds RetCode: 0 Status: OK