Package: borealis
Version: 1.10.0
Command: /Library/Frameworks/R.framework/Resources/bin/R CMD INSTALL borealis
StartedAt: 2024-11-08 15:40:48 -0500 (Fri, 08 Nov 2024)
EndedAt: 2024-11-08 15:41:03 -0500 (Fri, 08 Nov 2024)
EllapsedTime: 14.2 seconds
RetCode: 0
Status: OK