Package: borealis Version: 1.10.0 Command: /home/biocbuild/bbs-3.20-bioc/R/bin/R CMD build --keep-empty-dirs --no-resave-data --md5 borealis StartedAt: 2025-02-17 16:26:31 -0500 (Mon, 17 Feb 2025) EndedAt: 2025-02-17 16:28:17 -0500 (Mon, 17 Feb 2025) EllapsedTime: 106.1 seconds RetCode: 0 Status: OK PackageFile: borealis_1.10.0.tar.gz PackageFileSize: 430.3 <A href="http://en.wikipedia.org/wiki/KiB" target="_blank">KiB</A>