Package: borealis Version: 1.10.0 Command: /home/biocbuild/bbs-3.20-bioc/R/bin/R CMD INSTALL borealis StartedAt: 2025-02-03 15:54:17 -0500 (Mon, 03 Feb 2025) EndedAt: 2025-02-03 15:54:59 -0500 (Mon, 03 Feb 2025) EllapsedTime: 41.6 seconds RetCode: 0 Status: OK