Package: borealis Version: 1.10.0 Command: /home/biocbuild/R/R/bin/R CMD build --keep-empty-dirs --no-resave-data borealis StartedAt: 2025-02-03 22:16:05 -0000 (Mon, 03 Feb 2025) EndedAt: 2025-02-03 22:18:24 -0000 (Mon, 03 Feb 2025) EllapsedTime: 139.0 seconds RetCode: 0 Status: OK PackageFile: borealis_1.10.0.tar.gz PackageFileSize: 382.9 KiB