Package: borealis Version: 1.10.0 Command: /home/biocbuild/R/R/bin/R CMD INSTALL borealis StartedAt: 2025-02-03 21:08:48 -0000 (Mon, 03 Feb 2025) EndedAt: 2025-02-03 21:09:36 -0000 (Mon, 03 Feb 2025) EllapsedTime: 47.6 seconds RetCode: 0 Status: OK