Package: brainflowprobes Version: 1.20.0 Command: rm -rf brainflowprobes.buildbin-libdir && mkdir brainflowprobes.buildbin-libdir && /Users/biocbuild/BBS/utils/build-universal.sh brainflowprobes_1.20.0.tar.gz /Library/Frameworks/R.framework/Resources/bin/R brainflowprobes.buildbin-libdir StartedAt: 2025-02-04 12:34:06 -0500 (Tue, 04 Feb 2025) EndedAt: 2025-02-04 12:36:00 -0500 (Tue, 04 Feb 2025) EllapsedTime: 113.9 seconds RetCode: 0 Status: OK PackageFile: brainflowprobes_1.20.0.tgz PackageFileSize: 1.772 MiB