##############################################################################
##############################################################################
###
### Running command:
###
###   /Library/Frameworks/R.framework/Resources/bin/R CMD INSTALL brainflowprobes
###
##############################################################################
##############################################################################


* installing to library ‘/Library/Frameworks/R.framework/Versions/4.4-x86_64/Resources/library’
* installing *source* package ‘brainflowprobes’ ...
** using staged installation
** R
** data
*** moving datasets to lazyload DB
** inst
** byte-compile and prepare package for lazy loading
** help
*** installing help indices
** building package indices
** installing vignettes
** testing if installed package can be loaded from temporary location
Warning in fun(libname, pkgname) :
  Package 'brainflowprobes' is deprecated and will be removed from
  Bioconductor version 3.21
** testing if installed package can be loaded from final location
Warning in fun(libname, pkgname) :
  Package 'brainflowprobes' is deprecated and will be removed from
  Bioconductor version 3.21
** testing if installed package keeps a record of temporary installation path
* DONE (brainflowprobes)