Package: brainflowprobes Version: 1.20.0 Command: F:\biocbuild\bbs-3.20-bioc\R\bin\R.exe CMD INSTALL brainflowprobes StartedAt: 2025-02-03 17:04:08 -0500 (Mon, 03 Feb 2025) EndedAt: 2025-02-03 17:05:09 -0500 (Mon, 03 Feb 2025) EllapsedTime: 61.4 seconds RetCode: 0 Status: OK