Package: branchpointer Version: 1.32.0 Command: /Library/Frameworks/R.framework/Resources/bin/R CMD build --keep-empty-dirs --no-resave-data branchpointer StartedAt: 2025-02-03 19:48:41 -0500 (Mon, 03 Feb 2025) EndedAt: 2025-02-03 19:50:33 -0500 (Mon, 03 Feb 2025) EllapsedTime: 111.4 seconds RetCode: 0 Status: OK PackageFile: branchpointer_1.32.0.tar.gz PackageFileSize: 4.804 MiB