Package: branchpointer Version: 1.32.0 Command: /Library/Frameworks/R.framework/Resources/bin/R CMD check --install=check:branchpointer.install-out.txt --library=/Library/Frameworks/R.framework/Resources/library --no-vignettes --timings branchpointer_1.32.0.tar.gz StartedAt: 2025-02-04 13:18:24 -0500 (Tue, 04 Feb 2025) EndedAt: 2025-02-04 13:24:15 -0500 (Tue, 04 Feb 2025) EllapsedTime: 351.5 seconds RetCode: 0 Status: OK CheckDir: branchpointer.Rcheck Warnings: 0