Package: branchpointer Version: 1.32.0 Command: /Library/Frameworks/R.framework/Resources/bin/R CMD INSTALL branchpointer StartedAt: 2025-02-03 17:35:17 -0500 (Mon, 03 Feb 2025) EndedAt: 2025-02-03 17:36:21 -0500 (Mon, 03 Feb 2025) EllapsedTime: 64.0 seconds RetCode: 0 Status: OK