Package: branchpointer Version: 1.32.0 Command: F:\biocbuild\bbs-3.20-bioc\R\bin\R.exe CMD check --no-multiarch --install=check:branchpointer.install-out.txt --library=F:\biocbuild\bbs-3.20-bioc\R\library --no-vignettes --timings branchpointer_1.32.0.tar.gz StartedAt: 2025-02-03 23:49:08 -0500 (Mon, 03 Feb 2025) EndedAt: 2025-02-03 23:55:24 -0500 (Mon, 03 Feb 2025) EllapsedTime: 375.7 seconds RetCode: 0 Status: OK CheckDir: branchpointer.Rcheck Warnings: 0