Package: branchpointer Version: 1.32.0 Command: /home/biocbuild/R/R/bin/R CMD build --keep-empty-dirs --no-resave-data branchpointer StartedAt: 2025-02-03 22:16:25 -0000 (Mon, 03 Feb 2025) EndedAt: 2025-02-03 22:18:04 -0000 (Mon, 03 Feb 2025) EllapsedTime: 99.0 seconds RetCode: 0 Status: OK PackageFile: branchpointer_1.32.0.tar.gz PackageFileSize: 4.799 MiB