Package: branchpointer Version: 1.32.0 Command: /home/biocbuild/R/R/bin/R CMD check --install=check:branchpointer.install-out.txt --library=/home/biocbuild/R/R/site-library --no-vignettes --timings branchpointer_1.32.0.tar.gz StartedAt: 2025-02-04 05:11:56 -0000 (Tue, 04 Feb 2025) EndedAt: 2025-02-04 05:17:58 -0000 (Tue, 04 Feb 2025) EllapsedTime: 362.3 seconds RetCode: 0 Status: OK CheckDir: branchpointer.Rcheck Warnings: 0