Package: breakpointR Version: 1.24.0 Command: /Library/Frameworks/R.framework/Resources/bin/R CMD build --keep-empty-dirs --no-resave-data breakpointR StartedAt: 2025-02-03 19:48:46 -0500 (Mon, 03 Feb 2025) EndedAt: 2025-02-03 19:50:10 -0500 (Mon, 03 Feb 2025) EllapsedTime: 84.2 seconds RetCode: 0 Status: OK PackageFile: breakpointR_1.24.0.tar.gz PackageFileSize: 818.6 KiB