Package: broadSeq Version: 1.0.0 Command: /home/biocbuild/bbs-3.20-bioc/R/bin/R CMD build --keep-empty-dirs --no-resave-data --md5 broadSeq StartedAt: 2025-02-03 16:39:31 -0500 (Mon, 03 Feb 2025) EndedAt: 2025-02-03 16:41:40 -0500 (Mon, 03 Feb 2025) EllapsedTime: 129.1 seconds RetCode: 0 Status: OK PackageFile: broadSeq_1.0.0.tar.gz PackageFileSize: 4.082 MiB