Package: broadSeq Version: 1.0.0 Command: chmod a+r broadSeq -R && F:\biocbuild\bbs-3.20-bioc\R\bin\R.exe CMD build --keep-empty-dirs --no-resave-data broadSeq StartedAt: 2025-02-03 17:53:22 -0500 (Mon, 03 Feb 2025) EndedAt: 2025-02-03 17:56:30 -0500 (Mon, 03 Feb 2025) EllapsedTime: 187.7 seconds RetCode: 0 Status: OK PackageFile: broadSeq_1.0.0.tar.gz PackageFileSize: 2.943 MiB