Package: broadSeq Version: 1.0.0 Command: /home/biocbuild/R/R/bin/R CMD build --keep-empty-dirs --no-resave-data broadSeq StartedAt: 2025-02-03 22:18:07 -0000 (Mon, 03 Feb 2025) EndedAt: 2025-02-03 22:18:08 -0000 (Mon, 03 Feb 2025) EllapsedTime: 1.0 seconds RetCode: 1 Status: ERROR PackageFile: None PackageFileSize: NA