Package: bsseq Version: 1.42.0 Command: rm -rf bsseq.buildbin-libdir && mkdir bsseq.buildbin-libdir && /Users/biocbuild/BBS/utils/build-universal.sh bsseq_1.42.0.tar.gz /Library/Frameworks/R.framework/Resources/bin/R bsseq.buildbin-libdir StartedAt: 2025-02-05 15:03:42 -0500 (Wed, 05 Feb 2025) EndedAt: 2025-02-05 15:04:51 -0500 (Wed, 05 Feb 2025) EllapsedTime: 69.0 seconds RetCode: 0 Status: OK PackageFile: bsseq_1.42.0.tgz PackageFileSize: 3.742 MiB