Package: bsseq Version: 1.42.0 Command: /Library/Frameworks/R.framework/Resources/bin/R CMD INSTALL bsseq StartedAt: 2025-02-03 15:59:10 -0500 (Mon, 03 Feb 2025) EndedAt: 2025-02-03 16:00:28 -0500 (Mon, 03 Feb 2025) EllapsedTime: 78.3 seconds RetCode: 0 Status: OK