Package: bsseq Version: 1.42.0 Command: /Library/Frameworks/R.framework/Resources/bin/R CMD check --install=check:bsseq.install-out.txt --library=/Library/Frameworks/R.framework/Resources/library --no-vignettes --timings bsseq_1.42.0.tar.gz StartedAt: 2025-02-04 00:39:40 -0500 (Tue, 04 Feb 2025) EndedAt: 2025-02-04 00:55:03 -0500 (Tue, 04 Feb 2025) EllapsedTime: 923.9 seconds RetCode: 0 Status: OK CheckDir: bsseq.Rcheck Warnings: 0