Package: bsseq Version: 1.42.0 Command: /Library/Frameworks/R.framework/Resources/bin/R CMD INSTALL bsseq StartedAt: 2025-02-03 15:44:41 -0500 (Mon, 03 Feb 2025) EndedAt: 2025-02-03 15:47:03 -0500 (Mon, 03 Feb 2025) EllapsedTime: 141.9 seconds RetCode: 0 Status: OK