Package: bugsigdbr
Version: 1.12.0
Command: /Library/Frameworks/R.framework/Resources/bin/R CMD check --install=check:bugsigdbr.install-out.txt --library=/Library/Frameworks/R.framework/Resources/library --no-vignettes --timings bugsigdbr_1.12.0.tar.gz
StartedAt: 2024-11-08 21:55:12 -0500 (Fri, 08 Nov 2024)
EndedAt: 2024-11-08 21:59:59 -0500 (Fri, 08 Nov 2024)
EllapsedTime: 286.7 seconds
RetCode: 0
Status: OK
CheckDir: bugsigdbr.Rcheck
Warnings: 0