Package: bugsigdbr Version: 1.12.0 Command: /home/biocbuild/bbs-3.20-bioc/R/bin/R CMD build --keep-empty-dirs --no-resave-data --md5 bugsigdbr StartedAt: 2025-02-03 16:40:06 -0500 (Mon, 03 Feb 2025) EndedAt: 2025-02-03 16:40:37 -0500 (Mon, 03 Feb 2025) EllapsedTime: 31.0 seconds RetCode: 0 Status: OK PackageFile: bugsigdbr_1.12.0.tar.gz PackageFileSize: 330.3 KiB