Package: bugsigdbr Version: 1.12.0 Command: /home/biocbuild/R/R/bin/R CMD check --install=check:bugsigdbr.install-out.txt --library=/home/biocbuild/R/R/site-library --no-vignettes --timings bugsigdbr_1.12.0.tar.gz StartedAt: 2025-02-04 05:15:04 -0000 (Tue, 04 Feb 2025) EndedAt: 2025-02-04 05:18:39 -0000 (Tue, 04 Feb 2025) EllapsedTime: 215.1 seconds RetCode: 0 Status: OK CheckDir: bugsigdbr.Rcheck Warnings: 0