Package: cBioPortalData
Version: 2.18.0
Command: /Library/Frameworks/R.framework/Resources/bin/R CMD INSTALL cBioPortalData
StartedAt: 2024-11-08 15:31:25 -0500 (Fri, 08 Nov 2024)
EndedAt: 2024-11-08 15:31:41 -0500 (Fri, 08 Nov 2024)
EllapsedTime: 16.0 seconds
RetCode: 0
Status: OK