Package: cBioPortalData
Version: 2.18.0
Command: /Library/Frameworks/R.framework/Resources/bin/R CMD INSTALL cBioPortalData
StartedAt: 2024-11-19 15:25:21 -0500 (Tue, 19 Nov 2024)
EndedAt: 2024-11-19 15:26:19 -0500 (Tue, 19 Nov 2024)
EllapsedTime: 58.0 seconds
RetCode: 0
Status: OK