Package: cBioPortalData Version: 2.18.1 Command: /Library/Frameworks/R.framework/Resources/bin/R CMD check --install=check:cBioPortalData.install-out.txt --library=/Library/Frameworks/R.framework/Resources/library --no-vignettes --timings cBioPortalData_2.18.1.tar.gz StartedAt: 2025-02-04 00:50:32 -0500 (Tue, 04 Feb 2025) EndedAt: 2025-02-04 01:02:01 -0500 (Tue, 04 Feb 2025) EllapsedTime: 688.7 seconds RetCode: 0 Status: OK CheckDir: cBioPortalData.Rcheck Warnings: 0