Package: cBioPortalData Version: 2.18.1 Command: /Library/Frameworks/R.framework/Resources/bin/R CMD INSTALL cBioPortalData StartedAt: 2025-02-03 16:01:37 -0500 (Mon, 03 Feb 2025) EndedAt: 2025-02-03 16:03:04 -0500 (Mon, 03 Feb 2025) EllapsedTime: 86.9 seconds RetCode: 0 Status: OK