Package: cBioPortalData Version: 2.18.1 Command: F:\biocbuild\bbs-3.20-bioc\R\bin\R.exe CMD check --no-multiarch --install=check:cBioPortalData.install-out.txt --library=F:\biocbuild\bbs-3.20-bioc\R\library --no-vignettes --timings cBioPortalData_2.18.1.tar.gz StartedAt: 2025-02-04 00:01:05 -0500 (Tue, 04 Feb 2025) EndedAt: 2025-02-04 00:07:57 -0500 (Tue, 04 Feb 2025) EllapsedTime: 412.2 seconds RetCode: 0 Status: OK CheckDir: cBioPortalData.Rcheck Warnings: 0