Package: cageminer Version: 1.12.0 Command: /Library/Frameworks/R.framework/Resources/bin/R CMD build --keep-empty-dirs --no-resave-data cageminer StartedAt: 2025-02-03 19:56:39 -0500 (Mon, 03 Feb 2025) EndedAt: 2025-02-03 19:59:33 -0500 (Mon, 03 Feb 2025) EllapsedTime: 173.9 seconds RetCode: 0 Status: OK PackageFile: cageminer_1.12.0.tar.gz PackageFileSize: 1.417 MiB