Package: cageminer Version: 1.12.0 Command: /home/biocbuild/R/R/bin/R CMD build --keep-empty-dirs --no-resave-data cageminer StartedAt: 2025-02-03 22:20:52 -0000 (Mon, 03 Feb 2025) EndedAt: 2025-02-03 22:23:53 -0000 (Mon, 03 Feb 2025) EllapsedTime: 181.1 seconds RetCode: 0 Status: OK PackageFile: cageminer_1.12.0.tar.gz PackageFileSize: 904.7 KiB