Package: cageminer Version: 1.12.0 Command: /home/biocbuild/R/R/bin/R CMD check --install=check:cageminer.install-out.txt --library=/home/biocbuild/R/R/site-library --no-vignettes --timings cageminer_1.12.0.tar.gz StartedAt: 2025-02-04 05:17:58 -0000 (Tue, 04 Feb 2025) EndedAt: 2025-02-04 05:26:14 -0000 (Tue, 04 Feb 2025) EllapsedTime: 495.4 seconds RetCode: 0 Status: OK CheckDir: cageminer.Rcheck Warnings: 0